BEGIN:VCALENDAR
VERSION:2.0
PRODID:-//Byttemarked - ECPv5.6.0//NONSGML v1.0//EN
CALSCALE:GREGORIAN
METHOD:PUBLISH
X-WR-CALNAME:Byttemarked
X-ORIGINAL-URL:https://www.byttemarked.nu
X-WR-CALDESC:Events for Byttemarked
BEGIN:VTIMEZONE
TZID:Europe/Copenhagen
BEGIN:DAYLIGHT
TZOFFSETFROM:+0100
TZOFFSETTO:+0200
TZNAME:CEST
DTSTART:20220327T010000
END:DAYLIGHT
BEGIN:STANDARD
TZOFFSETFROM:+0200
TZOFFSETTO:+0100
TZNAME:CET
DTSTART:20221030T010000
END:STANDARD
END:VTIMEZONE
BEGIN:VEVENT
DTSTART;TZID=Europe/Copenhagen:20220309T150000
DTEND;TZID=Europe/Copenhagen:20220309T170000
DTSTAMP:20260424T193354
CREATED:20220301T135330Z
LAST-MODIFIED:20220301T135330Z
UID:5183-1646838000-1646845200@www.byttemarked.nu
SUMMARY:Aarhus Tøjbytte
DESCRIPTION:OBS – vi kender ikke sluttidspunktet\, kun at det starter kl. 15.00\n– – – –\nVerden er i en prekær situation og i en bæredygtighedskrise – men sulten efter nye muligheder for at udtrykke sig selv er stadig den samme. Hvad kan man egentlig gøre ved det uden at modsætte sig FNs verdensråd 12 om ansvarligt forbrug?\nI kasernebygningens foyer bliver der d. 09/03 klokken 15:00 mulighed for at bytte ens eget medbragte tøj til noget nyt.\nÆKKO x KaserneKluns følger parolen: Giv det du kan undvære\, og tag det du kan bruge.\nHelt konkret kommer det til at foregå således:\n1)deltageren donerer en portion tøj (der er ikke krav om hvor meget)\n2)ÆKKO kategoriserer tøjet – t-shirts\, bukser\, jakker osv – i én fælles samling\ndeltageren vælger frit en mængde tøj fra den fælles pulje (der er ikke krav om hvor meget)\n3)resterende tøj vil blive givet til folkekirkens nødhjælp i midtbyen\, hvor det kan købes efter hvis man fortryder.\nDeltagernes medbragte tøj skal modtages i en udmærket stand\, medmindre det er en del af designet:) Udover toiletterne vil der være et prøverum tilgængeligt.\nKasernecaféen vil sælge snacks\, sodavand\, øl mm.
URL:https://www.byttemarked.nu/kalenderen/aarhus-toejbytte-5/
LOCATION:Kasernecafeen\, Langelandsgade 139\, Aarhus\, 8000\, Danmark
END:VEVENT
END:VCALENDAR