BEGIN:VCALENDAR
VERSION:2.0
PRODID:-//Byttemarked - ECPv5.6.0//NONSGML v1.0//EN
CALSCALE:GREGORIAN
METHOD:PUBLISH
X-WR-CALNAME:Byttemarked
X-ORIGINAL-URL:https://www.byttemarked.nu
X-WR-CALDESC:Events for Byttemarked
BEGIN:VTIMEZONE
TZID:Europe/Copenhagen
BEGIN:DAYLIGHT
TZOFFSETFROM:+0100
TZOFFSETTO:+0200
TZNAME:CEST
DTSTART:20220327T010000
END:DAYLIGHT
BEGIN:STANDARD
TZOFFSETFROM:+0200
TZOFFSETTO:+0100
TZNAME:CET
DTSTART:20221030T010000
END:STANDARD
END:VTIMEZONE
BEGIN:VEVENT
DTSTART;TZID=Europe/Copenhagen:20220320T140000
DTEND;TZID=Europe/Copenhagen:20220320T160000
DTSTAMP:20260422T110105
CREATED:20220301T135956Z
LAST-MODIFIED:20220301T135956Z
UID:5194-1647784800-1647792000@www.byttemarked.nu
SUMMARY:Årslev Byttemarked
DESCRIPTION:Velkommen til Gi’ & ta’ marked på Husmandsstedet søndag d. 20. marts kl. 14 – 16\nHer kan du komme af med alle de gode og brugbare ting\, du ikke længere selv har brug for.\nTanken er\, at du kommer med det\, du gerne vil forære væk. Dem der gerne vil have dine ting\, kan tage dem kvit og frit. Altså en slags loppemarked uden betaling. En smuk omfordeling af vores ressourcer. Man behøver ikke at indlevere noget for at kunne tage noget\, så kom endelig forbi\, selvom du ikke har noget at give væk\, måske finder du lige det du mangler.\nDu kan indlevere tingene enten på dagen eller i løbet af uge 11\nSkulle der være nogle ting tilovers når dagen er forbi\, vil de blive afleveret til Røde Kors Butikken.\nCafeen vil være åben\, så kom og nyd søndagskaffen i godt selskab..\nVi glæder os til at se dig.
URL:https://www.byttemarked.nu/kalenderen/aarslev-byttemarked-3/
LOCATION:Husmandsstedet\, Over Bækken 1e\, Årslev\, 5792\, Danmark
END:VEVENT
END:VCALENDAR