BEGIN:VCALENDAR
VERSION:2.0
PRODID:-//Byttemarked - ECPv5.6.0//NONSGML v1.0//EN
CALSCALE:GREGORIAN
METHOD:PUBLISH
X-WR-CALNAME:Byttemarked
X-ORIGINAL-URL:https://www.byttemarked.nu
X-WR-CALDESC:Events for Byttemarked
BEGIN:VTIMEZONE
TZID:Europe/Copenhagen
BEGIN:DAYLIGHT
TZOFFSETFROM:+0100
TZOFFSETTO:+0200
TZNAME:CEST
DTSTART:20190331T010000
END:DAYLIGHT
BEGIN:STANDARD
TZOFFSETFROM:+0200
TZOFFSETTO:+0100
TZNAME:CET
DTSTART:20191027T010000
END:STANDARD
END:VTIMEZONE
BEGIN:VEVENT
DTSTART;TZID=Europe/Copenhagen:20191129T090000
DTEND;TZID=Europe/Copenhagen:20191129T093000
DTSTAMP:20260425T174133
CREATED:20191121T231445Z
LAST-MODIFIED:20191121T231445Z
UID:4508-1575018000-1575019800@www.byttemarked.nu
SUMMARY:Green Friday KBH K
DESCRIPTION:Morgenmad\, tøjbytte 9.00 – 9.30\, oplæg om tøjindustrien og derefter klimademonstration. \nDen 29. november vil der igen være international klimastrejke – denne gang i anledningen af Black Friday.\nBlack Friday er blevet noget nær en konsumeristisk helligdag – en dag\, hvor vi som forbrugere bliver fristet og vildledt til at købe tøj\, elektronik mm. Problemet er\, at overforbrug har store miljømæssige\, klimatiske og sociale konsekvenser. \nEn af de mest overforbrugte og solgte varer i forbindelse med Black Friday er tøj.”Hvert år produceres der på verdensplan 150 milliarder stykker tøj. Beklædningsindustrien regnes som en af de mest forurenende i verden\, kun overgået af olieindustrien\, og produktionen af tøj står for over 10% af verdens samlede udledning af CO2″. Tøjproduktionen kræver store mængde ressourcer: “dyrkning af 1 kilo bomuld koster i gennemsnit 8.000 liter vand\, men i nogle tilfælde op til 30.000 liter vand. Et par jeans kræver cirka 0\,6 kilo kemikalier og 12.000 liter vand at producere”.[1] \nDertil foregår megen produktion af tøj under dårlige vilkår med underbetaling\, social udbytning samt psykisk og fysisk vold. [2] Eksempelvis i Bangladesh\, hvor tekstilarbejdere kan arbejde op til 56 timer om ugen til en mindsteløn på 370 kr. mens levelønnen anslås til 653 kr.[3] \nDer er med andre brug for at ske en ændring i vores forbrugskultur\, ligesom der skal lægges pres på multinationale virksomheder og politikere for at skabe bedre produktionsforhold\, der bygger på social retfærdighed\, bæredygtighed og miljøhensyn. Ansvaret ligger ikke hos den enkelte\, men hos forbrugskulturen\, storindustrierne og politikerne. \nI den anledning vil vi i SIMA og RHEA gerne invitere til morgenmad\, tøjbyttemarked og allervigtigst et spændende oplæg ved Fashion Revolution Denmark\, der vil gøre os klogere på problemerne omkring miljø og de sociale uretfærdigheder\, der er forbundet med modeindustrien\, samt hvordan vi som forbrugere skal skifte vores fælles mindset. \nKlimastrejken vil forløbe sig således:\nKl. 9:00 mødes vi på CSS i Kommunen\, hvor vi vil morgenhygge omkring lidt let morgenmad\, fællessang og tøjbyttemarked \nKl. 09:30 vil Olivia Boesen\, Studenterrådets spidskandidat til Universitetsbestyrelsen\, komme og give mit bud på\, hvordan vi kan gøre KU til et grønt foregangsuniversitet \nKl. 10 vil Fashion Revolution Denmark komme og holde deres oplæg \nKl. 11:15 vil vi i fællesskab gå til Christiansborg for at tilslutte os den store demonstration ifbm. den internationale klimastrejke\, og dermed tilslutte os de mange millioner klimastrejkende mennesker verden over.\nBegivenheden er her: https://www.facebook.com/events/507234273192211/ \nVel mødt! \n[1] https://faktalink.dk/tojspild\n[2] https://danwatch.dk/perspektiv/arbejderne-der-syr-dit-toej-faar-stadig-daarligere-vilkaar-og-intet-tyder-paa-at-det-aendrer-sig/\n[3] https://danwatch.dk/dw-content/uploads/2015/03/T%C3%B8jets-Tragedier.pdf \nLæs mere om Fashion Revolution her: https://www.fashionrevolution.org/
URL:https://www.byttemarked.nu/kalenderen/green-friday-kbh-k-2/
LOCATION:Center For Sundhed og Samfund\, Øster Farimagsgade 5\, København K\, 1353\, Danmark
END:VEVENT
END:VCALENDAR