BEGIN:VCALENDAR
VERSION:2.0
PRODID:-//Byttemarked - ECPv5.6.0//NONSGML v1.0//EN
CALSCALE:GREGORIAN
METHOD:PUBLISH
X-WR-CALNAME:Byttemarked
X-ORIGINAL-URL:https://www.byttemarked.nu
X-WR-CALDESC:Events for Byttemarked
BEGIN:VTIMEZONE
TZID:Europe/Copenhagen
BEGIN:DAYLIGHT
TZOFFSETFROM:+0100
TZOFFSETTO:+0200
TZNAME:CEST
DTSTART:20220327T010000
END:DAYLIGHT
BEGIN:STANDARD
TZOFFSETFROM:+0200
TZOFFSETTO:+0100
TZNAME:CET
DTSTART:20221030T010000
END:STANDARD
END:VTIMEZONE
BEGIN:VEVENT
DTSTART;TZID=Europe/Copenhagen:20220312T110000
DTEND;TZID=Europe/Copenhagen:20220312T160000
DTSTAMP:20260424T175840
CREATED:20220301T135642Z
LAST-MODIFIED:20220308T095834Z
UID:5187-1647082800-1647100800@www.byttemarked.nu
SUMMARY:Holbæk Tøjbytte
DESCRIPTION:GRATIS TØJBYTTEMARKED I HOLBÆK\n\n\n\nLækkert tøjbyttemarked fyldt med gratis tøj den 12. marts på Lucerna – Uddannelses\, kultur og iværksætterhus\n\n\n\nØnsker man at donere tøj til markedet\, laver vi drop in i huset (LUCERNA) hver onsdag (indtil d. 12. marts) mellem kl. 15.00-16.30. Man kan selvfølgelig også komme med tøjet på dagen Vi tager imod det hele! Når du donerer tøj modtager du et lod og er med i lodtrækningen om LÆKRE PRÆMIER. \nTag et kig i hele huset og oplev de mange aktiviteter: \n\n\n– 1 etagen.\n Slå dig ned ved en symaskine og reparer\, upcycle el. sy det tøj ind\, du har fundet på tøjbyttemarkedet. Vi viser dig\, hvordan det skal gøres. \n\n– 2 Etagen.\n Selve tøjbyttemarkedet. Her kan slå dig løs i tøj der fortjener en runde til. Det koster dig ikke krone .\n– 3 etagen.\n Lav dit eget print. Du har måske fundet en t-shirt der trænger til lidt nyt liv? Lær at lave et print på den. Vi har dygtige Despina fra Hawila stående klar til at hjælpe dig.\n\n\nALT OVERSKUD GÅR TIL UKRAINE\n\n\nGrundet de mærkelig tider har vi valgt\, at alt overskud går til Ukraine. Det vil sige\, at alt tøj der bliver tilovers vil gå som hjælp til Ukraine på den ene eller anden måde.\n\n\nDer ud over vil der også blive solgt the\, kaffe og kage\, hvor alle pengene vil gå ubeskåret til hjælpeorganisationer der støtter Ukraine.\n\n\n\nVi glæder os til at se dig!
URL:https://www.byttemarked.nu/kalenderen/holbaek-toejbytte/
LOCATION:Lucerna – Uddannelses\, kultur og iværksætterhus\, Algade 3F\, Holbæk\, 4300\, Danmark
END:VEVENT
END:VCALENDAR