BEGIN:VCALENDAR
VERSION:2.0
PRODID:-//Byttemarked - ECPv5.6.0//NONSGML v1.0//EN
CALSCALE:GREGORIAN
METHOD:PUBLISH
X-WR-CALNAME:Byttemarked
X-ORIGINAL-URL:https://www.byttemarked.nu
X-WR-CALDESC:Events for Byttemarked
BEGIN:VTIMEZONE
TZID:Europe/Copenhagen
BEGIN:DAYLIGHT
TZOFFSETFROM:+0100
TZOFFSETTO:+0200
TZNAME:CEST
DTSTART:20240331T010000
END:DAYLIGHT
BEGIN:STANDARD
TZOFFSETFROM:+0200
TZOFFSETTO:+0100
TZNAME:CET
DTSTART:20241027T010000
END:STANDARD
END:VTIMEZONE
BEGIN:VEVENT
DTSTART;TZID=Europe/Copenhagen:20240427T100000
DTEND;TZID=Europe/Copenhagen:20240427T130000
DTSTAMP:20260423T035427
CREATED:20240422T121718Z
LAST-MODIFIED:20240422T121718Z
UID:5951-1714212000-1714222800@www.byttemarked.nu
SUMMARY:Ikast Tøjbytte
DESCRIPTION:I uge 17 Bibliotekernes Verdensmålsuge er der tøjbyttemarked arrangeret af Lene BjørnAlle Kvinder er inviteret til at tage et kig i skabe og skuffer derhjemme og pakke det pæne tøj sammen\, som de ikke bruger mere og gerne vil have byttet til noget andet.\nAdgangsbilletten er fri\, eneste krav er at deltagere medbringer deres eget tøj hjemmefra\, som de vil bytte. / Benyt chancen og kig kritisk i klædeskabet og få måske noget (nyt) brugt med hjem. Så er du med til at leve op til Verdensmål 12: Ansvarligt forbrug og produktion | Verdensmålene.dk\nBørnetøj kan ikke benyttes på tøjbytte markedet.
URL:https://www.byttemarked.nu/kalenderen/ikast-toejbytte-2/
LOCATION:Ikast-Brande Bibliotek\, Grønnegade 25\, Ikast\, 7430
ATTACH;FMTTYPE=image/jpeg:https://www.byttemarked.nu/wp-content/uploads/2024/04/340748924_951630359194679_8977356104098780442_n.jpg
ORGANIZER;CN="Ikast-Brande%20Bibliotek":MAILTO:ikastbibliotek@ikast-brande.dk
END:VEVENT
END:VCALENDAR