BEGIN:VCALENDAR
VERSION:2.0
PRODID:-//Byttemarked - ECPv5.6.0//NONSGML v1.0//EN
CALSCALE:GREGORIAN
METHOD:PUBLISH
X-WR-CALNAME:Byttemarked
X-ORIGINAL-URL:https://www.byttemarked.nu
X-WR-CALDESC:Events for Byttemarked
BEGIN:VTIMEZONE
TZID:Europe/Copenhagen
BEGIN:DAYLIGHT
TZOFFSETFROM:+0100
TZOFFSETTO:+0200
TZNAME:CEST
DTSTART:20190331T010000
END:DAYLIGHT
BEGIN:STANDARD
TZOFFSETFROM:+0200
TZOFFSETTO:+0100
TZNAME:CET
DTSTART:20191027T010000
END:STANDARD
END:VTIMEZONE
BEGIN:VEVENT
DTSTART;TZID=Europe/Copenhagen:20190831T130000
DTEND;TZID=Europe/Copenhagen:20190831T150000
DTSTAMP:20260424T071346
CREATED:20190802T165717Z
LAST-MODIFIED:20190802T165717Z
UID:4132-1567256400-1567263600@www.byttemarked.nu
SUMMARY:Lyngby Byttemarked
DESCRIPTION:Brug evt. lidt af sommerferien på at rydde op i skabe og skuffer og kom og byt!\nMåske skal sommergarderoben byttes til efterårstøj og bogen du læste i din ferie\, er der nu andre der kan få glæde af. \nMedbring tøj og ting i god stand\, som du ikke længere bruger (dog ikke store ting som møbler) – Giv dem til byttermarkedet – og tag så frit hvad du kan bruge af andres\naflagte skatte – Gratis! \nSe mere på Ungdomspræsten i Lyngbys Facebookside
URL:https://www.byttemarked.nu/kalenderen/lyngby-byttemarked-5/
LOCATION:Christianskirken i Lyngby\, Christian X's Alle 120\, 2800 Kgs Lyngby\, 2800\, Danmark
END:VEVENT
END:VCALENDAR