BEGIN:VCALENDAR
VERSION:2.0
PRODID:-//Byttemarked - ECPv5.6.0//NONSGML v1.0//EN
CALSCALE:GREGORIAN
METHOD:PUBLISH
X-WR-CALNAME:Byttemarked
X-ORIGINAL-URL:https://www.byttemarked.nu
X-WR-CALDESC:Events for Byttemarked
BEGIN:VTIMEZONE
TZID:Europe/Copenhagen
BEGIN:DAYLIGHT
TZOFFSETFROM:+0100
TZOFFSETTO:+0200
TZNAME:CEST
DTSTART:20240331T010000
END:DAYLIGHT
BEGIN:STANDARD
TZOFFSETFROM:+0200
TZOFFSETTO:+0100
TZNAME:CET
DTSTART:20241027T010000
END:STANDARD
END:VTIMEZONE
BEGIN:VEVENT
DTSTART;TZID=Europe/Copenhagen:20240224T110000
DTEND;TZID=Europe/Copenhagen:20240224T130000
DTSTAMP:20260421T123152
CREATED:20240103T005505Z
LAST-MODIFIED:20240103T005505Z
UID:5794-1708772400-1708779600@www.byttemarked.nu
SUMMARY:Lyngby Tøjbyttemarked
DESCRIPTION:Stengård Kirke inviterer til grøn lørdag med tøjbyttemarked lørdag 24. februar kl. 11-13 i multisalen \nVi har alle tøj\, vi ikke længere bruger. Ved at bytte med hinanden kan vi spare penge og ressourcer. \nRyd op i dine gemmer og tag det med på tøjbyttemarked. \nVi bytter børnetøj\, herre- og dametøj\, sko\, tekstiler og garn. \nMangler du en vinterfrakke\, en festkjole eller andet\, er du velkommen\, også selvom du ikke selv har noget med. \nTøjbyttemarked er for private og ikke til videresalg. \nTøj du gerne vil af med\, kan lægges på bordene til kl. 12:30 \nKom og byt og tag hvad du kan bruge. Det er også rigtigt hyggeligt. \nVi sælger kaffe og kage. Pengene går til kirkens menighedshjælp.
URL:https://www.byttemarked.nu/kalenderen/lyngby-toejbyttemarked-2/
LOCATION:Stengård Kirke\, Gammelmosevej 250\, Kgs Lyngby\, 2800\, Danmark
ATTACH;FMTTYPE=image/png:https://www.byttemarked.nu/wp-content/uploads/2023/12/7B279D4D-F6CC-417D-B98E-9D71A3751626.png
END:VEVENT
END:VCALENDAR