BEGIN:VCALENDAR
VERSION:2.0
PRODID:-//Byttemarked - ECPv5.6.0//NONSGML v1.0//EN
CALSCALE:GREGORIAN
METHOD:PUBLISH
X-WR-CALNAME:Byttemarked
X-ORIGINAL-URL:https://www.byttemarked.nu
X-WR-CALDESC:Events for Byttemarked
BEGIN:VTIMEZONE
TZID:Europe/Copenhagen
BEGIN:DAYLIGHT
TZOFFSETFROM:+0100
TZOFFSETTO:+0200
TZNAME:CEST
DTSTART:20220327T010000
END:DAYLIGHT
BEGIN:STANDARD
TZOFFSETFROM:+0200
TZOFFSETTO:+0100
TZNAME:CET
DTSTART:20221030T010000
END:STANDARD
END:VTIMEZONE
BEGIN:VEVENT
DTSTART;TZID=Europe/Copenhagen:20220305T100000
DTEND;TZID=Europe/Copenhagen:20220305T140000
DTSTAMP:20260425T004738
CREATED:20220301T134507Z
LAST-MODIFIED:20220301T134507Z
UID:5174-1646474400-1646488800@www.byttemarked.nu
SUMMARY:Nykøbing F. Byttemarked
DESCRIPTION:Byt til “nyt” -HELT GRATIS\nMedbring ting ( Tøj\, Sko\, Accessories\, Køkkenting\, bøger\, Elektronik\, og andre brugbare brugsting og pynteting ) i hel og god stand\, som du vil donere til byttemarkedet (ikke større end det kan være i en lille flyttekasse).\nFind ting\, du gerne selv vil have – alle tingene er gratis.\nTag\, hvad du kan bruge\, inden for rimelighedens grænser.\nByttemarked er kun for private.
URL:https://www.byttemarked.nu/kalenderen/nykoebing-f-byttemarked-3/
LOCATION:Friserhuset\, Frisegade 25\, Nykøbing Falster\, 4800\, Danmark
ATTACH;FMTTYPE=image/jpeg:https://www.byttemarked.nu/wp-content/uploads/2021/11/84934854_2604612123151305_4304871971620913152_n.jpg
END:VEVENT
END:VCALENDAR