BEGIN:VCALENDAR
VERSION:2.0
PRODID:-//Byttemarked - ECPv5.6.0//NONSGML v1.0//EN
CALSCALE:GREGORIAN
METHOD:PUBLISH
X-WR-CALNAME:Byttemarked
X-ORIGINAL-URL:https://www.byttemarked.nu
X-WR-CALDESC:Events for Byttemarked
BEGIN:VTIMEZONE
TZID:Europe/Copenhagen
BEGIN:DAYLIGHT
TZOFFSETFROM:+0100
TZOFFSETTO:+0200
TZNAME:CEST
DTSTART:20220327T010000
END:DAYLIGHT
BEGIN:STANDARD
TZOFFSETFROM:+0200
TZOFFSETTO:+0100
TZNAME:CET
DTSTART:20221030T010000
END:STANDARD
END:VTIMEZONE
BEGIN:VEVENT
DTSTART;TZID=Europe/Copenhagen:20220319T110000
DTEND;TZID=Europe/Copenhagen:20220319T140000
DTSTAMP:20260424T140546
CREATED:20220308T095310Z
LAST-MODIFIED:20220308T095310Z
UID:5217-1647687600-1647698400@www.byttemarked.nu
SUMMARY:Roskilde Byttemarked
DESCRIPTION:Medbring de ting som du ikke længere bruger\, f.eks. tøj\, legetøj\, bøger\, cd’er og køkkenting. Du overdrager dine ting til markedet\, og kan frit gå på opdagelse og tage hvad du har lyst til\, til glæde for andre og miljøet.
URL:https://www.byttemarked.nu/kalenderen/roskilde-byttemarked-18/
LOCATION:Byens Hus\, Roskilde\, Stændertorvet 1\, Roskilde\, 4000\, Danmark
END:VEVENT
END:VCALENDAR