BEGIN:VCALENDAR
VERSION:2.0
PRODID:-//Byttemarked - ECPv5.6.0//NONSGML v1.0//EN
CALSCALE:GREGORIAN
METHOD:PUBLISH
X-WR-CALNAME:Byttemarked
X-ORIGINAL-URL:https://www.byttemarked.nu
X-WR-CALDESC:Events for Byttemarked
BEGIN:VTIMEZONE
TZID:Europe/Copenhagen
BEGIN:DAYLIGHT
TZOFFSETFROM:+0100
TZOFFSETTO:+0200
TZNAME:CEST
DTSTART:20220327T010000
END:DAYLIGHT
BEGIN:STANDARD
TZOFFSETFROM:+0200
TZOFFSETTO:+0100
TZNAME:CET
DTSTART:20221030T010000
END:STANDARD
END:VTIMEZONE
BEGIN:VEVENT
DTSTART;TZID=Europe/Copenhagen:20221009T140000
DTEND;TZID=Europe/Copenhagen:20221009T160000
DTSTAMP:20260421T224218
CREATED:20221010T121808Z
LAST-MODIFIED:20221010T121808Z
UID:5404-1665324000-1665331200@www.byttemarked.nu
SUMMARY:Solrød Tøjbyttemarked
DESCRIPTION:Grøn Søndag med Tøjbyttemarked. \nVi gentager succesen fra foråret med et tøjbyttemarked hvor du kan komme med tøj/sko du ikke går med mere og bytte det med tøjet\, andre har lagt – ganske gratis. \nVi skåner miljøet ved at genbruge og sparer samtidig på pengepungen ved at bytte med hinanden. Der sælges kaffe og kage til fordel for menighedsplejen.
URL:https://www.byttemarked.nu/kalenderen/solroed-toejbyttemarked/
LOCATION:Kirkens Hus\, Trylleskov Allé\, Solrød Strand\, 2680\, Danmark
ATTACH;FMTTYPE=image/png:https://www.byttemarked.nu/wp-content/uploads/2022/10/My-project-1-18.png
END:VEVENT
END:VCALENDAR